BEGIN:VCALENDAR
VERSION:2.0
PRODID:https://github.com/derhansen/sf_event_mgt
METHOD:PUBLISH
BEGIN:VEVENT
UID:57-164@www.ove.at
CLASS: PUBLIC
SUMMARY:AC-Ladestationen in der Elektromobilität: Projektieren, Errichten u
 nd Prüfen
DESCRIPTION:Neue Märkte bringen neue Chancen - auch für Elektrotechniker. E
 in Ladepunkt mindestens alle 60 km ab 2026 und ein Verkaufsverbot von Fahrz
 eugen mit Verbrennungsmotoren ab 2035 - das sind die ambitionierten Vorgabe
 n der EU-Kommission.\n\nIn einem modernen Elektrotechnik-Unternehmen gehört
  E-Mobilität bereits zur Kernkompetenz, vor allem Planen, Errichten und Prü
 fen von Ladestationen. Doch wie mit den technischen Herausforderungen umgeh
 en? Wie kann der sichere Betrieb einer Ladeeinrichtung gewährleistet werden
 ? Wie müssen Gleichfehlerströme überwacht werden? Welche Messgeräte sind no
 twendig?  All das und mehr wird in diesem Seminar erklärt.\n\nSchwerpunkte:
 \n\nStatus Quo/EntwicklungenAufbau und Komponenten eines ElektrofahrzeugesU
 nterscheidung AC-/DC-LadungGesetze, Normen, Richtlinien, Ladebetriebsarten 
 1-4TOR Verteilernetzanschluss für die NiederspannungGrundlagen der Kommunik
 ation zwischen Ladestation und FahrzeugSchutzmaßnahmen gegen elektrischen S
 chlagNeue Elektromobilität und alte ElektroinstallationenPlanung und Errich
 tung von AC-LadestationenLaststeuerungsansätze und AbrechnungsartenNormgere
 chtes Prüfen von AC-Ladestationen\n\nZielgruppe:\n\nPersonen, die mit der P
 lanung, der Errichtung und dem Betrieb von AC-Ladestationen betraut sind, i
 nsbesondere Mitarbeitende von:Planungs- und IngenieurbürosFuhrparkbetreiber
 nHausverwaltungen/ImmobilienverwaltungenGaragenbetreibernElektrofachkräfte,
  Servicetechniker:innen, die wiederkehrende Prüfungen an AC-Ladestationen d
 urchführen\n\n\n\nOnline-Teilnahme:Online-Teilnehmer:innen erhalten rechtze
 itig vor der Veranstaltung einen Zugangslink per E-Mail.\n\nUnser Referent 
 im Kurzinterview:
LOCATION:OVE Academy Galerie
DTSTAMP:20260422T150924Z
DTSTART:20260526T070000Z
DTEND:20260526T140000Z
END:VEVENT
END:VCALENDAR
