BEGIN:VCALENDAR
VERSION:2.0
PRODID:https://github.com/derhansen/sf_event_mgt
METHOD:PUBLISH
BEGIN:VEVENT
UID:55-164@www.ove.at
CLASS: PUBLIC
SUMMARY:OVE Fem-Neujahrsfrühstück
DESCRIPTION:Auch 2025 lädt OVE Fem wieder alle weiblichen Mitglieder des OV
 E Österreichischer Verband für Elektrotechnik sowie Interessentinnen aus de
 r Branche der Elektrotechnik, Informationstechnik und Energiewirtschaft zum
  Neujahrsfrühstück ein.\n\nMit dem Motto „Solidarität statt Konkurrenz: Fra
 uen stärken Frauen“ starten wir gemeinsam ins neue Jahr, arbeiten weiter an
  unser aller Sichtbarkeit und gestalten gemeinsam Technik-Zukunft, denn wir
  sind #StrongerTogether!\n\nWann: Freitag, 17. Jänner 2025, 09:00 – 11:00 U
 hr | Onboarding: 08:30 Uhr\n\nWo: OVE, Haus der Ingenieure, Business-Ebene,
  1. Stock, Eschenbachgasse 9, 1010 Wien\n\n Programm\n\n 	 		 			09:00 Uhr 
 			  			Begrüßung durch OVE Generalsekretär Dipl.-Ing. Peter Reichel und OV
 E Fem-Vorsitzende Michaela Leonhardt, PhD 		 		 			  			  			  			  		 		 	
 		09:10 Uhr 			  			Keynote von Mag. Andrea König, BA,  New Work Bloggerin 
 & Business Mental Coachin 		 		 			  			  			 			„Mythos Stutenbissigkeit: 
 Wie wir Konkurrenz in Kooperation verwandeln“ 		 		 			  			  			  			  		 
 		 			09:20 Uhr 			  			Frauen führen Frauen – im Gespräch mit 		 		 			  	
 		  			 			 			Christine Materazzi-Wagner, Leiterin Abteilung Strom, E-Cont
 rol 			Pia Burchart, Teamlead – Govern Engage Transform, APG Austrian Power
  Grid 			 		 		 			  			  			  			  		 		 			09:40 Uhr 			  			Impulse und 
 Diskussion 		 		 			  			  			  			  		 		 			09:50 Uhr 			  			Mit OVE Fem
  in die Zukunft: Interaktives Gestalten – #ShapingTomorrowTogether 		 		 		
 	  			  			  			  		 		 			10:30 Uhr 			  			Netzwerken und Ausklang 		 	 
LOCATION:HDI-Businessebene
DTSTAMP:20250107T142247Z
DTSTART:20250117T080000Z
DTEND:20250117T100000Z
END:VEVENT
END:VCALENDAR
