BEGIN:VCALENDAR
VERSION:2.0
PRODID:https://github.com/derhansen/sf_event_mgt
METHOD:PUBLISH
BEGIN:VEVENT
UID:39-164@www.ove.at
CLASS: PUBLIC
SUMMARY:Niederspannungsleistungsschalter: Verwendung, Einstellung und Prüfu
 ng
DESCRIPTION:In diesem Seminar werden die wesentlichen Grundlagen sowie die 
 Kriterien für die Einstellung von Niederspannungsleistungsschaltern bearbei
 tet. Hierbei sind die verschiedenen Einsatzbereiche und die Festlegung von 
 Selektivitätskriterien essentiell. Beispiele aus der Praxis bringen einen Ü
 berblick von einfachen bis hin zu komplexen gewerblichen und industriellen 
 Anwendungsfällen. Abschließend werden die Themengebiete wiederkehrende Prüf
 ung und Wartung behandelt.\n\nSchwerpunkte:\n\nNormative und rechtliche Gru
 ndlagenÜbersicht über die wesentlichen Funktionsbereiche bzw. die wichtigst
 en KenndatenHauptanwendungsgebiete von Leistungsschaltern, wie zum Beispiel
  Anlagenschutz, Leitungsschutz, Transformatorschutz, Motorschutz und Genera
 torschutz.Auswahl und Anforderungsprofil hinsichtlich SchaltvermögenSchutze
 instellung und PrüfungStaffelpläneEinsatz von Softwarelösungen\n\nZielgrupp
 e:\n\nPlanende, Errichtende und Betreibende elektrischer Anlagen im höheren
  LeistungsbereichFachkräfte, die mit wiederkehrenden Prüfungen betraut sind
 \n\n\n\nOnline-Teilnehmer:innen erhalten rechtzeitig vor der Veranstaltung 
 einen Zugangslink per E-Mail.\n\n \n\nUnser Referent im Kurzinterview:
LOCATION:OVE Academy Turmzimmer
DTSTAMP:20260216T161108Z
DTSTART:20260429T070000Z
DTEND:20260429T140000Z
END:VEVENT
END:VCALENDAR
