BEGIN:VCALENDAR
VERSION:2.0
PRODID:https://github.com/derhansen/sf_event_mgt
METHOD:PUBLISH
BEGIN:VEVENT
UID:27-164@www.ove.at
CLASS: PUBLIC
SUMMARY:Niederspannungs-Schaltgerätekombinationen gemäß OVE EN IEC 61439
DESCRIPTION:Niederspannungs-Schaltgerätekombinationen werden, je nach Einsa
 tzgebiet, seit einigen Jahren nach einer der Teile der harmonisierten Norme
 nserie OVE EN IEC 61439 hergestellt, geprüft, in Betrieb genommen und insta
 nd gehalten.\n\nSchwerpunkte:\n\n Gesetzliche Grundlagen für Herstellung un
 d Betrieb von Niederspannungs-SchaltgerätekombinationenWas ist eine Nieders
 pannungs-Schaltgerätekombination?Aufgaben und Verantwortung von Hersteller 
 und AnwenderEnergieverteiler und InstallationsverteilerEU-Konformität und a
 nerkannte Regeln der TechnikBauartnachweisNachweis der ErwärmungStücknachwe
 isKennzeichnung und Dokumentation\n\nZielgruppe:\n\nProjektanten und qualif
 izierte Techniker aus den Arbeitsgebieten Elektrotechnik und Mechatronik, d
 ie mit Planung, Herstellung, Inbetriebnahme, Instandhaltung und Prüfung von
  Niederspannungs-Schaltgerätekombinationen in elektrischen Anlagen befasst 
 sind, Elektroplaner, Elektrotechniker, Ingenieure, Sachverständige.
LOCATION:OVE Academy Turmzimmer
DTSTAMP:20260225T164721Z
DTSTART:20260601T070000Z
DTEND:20260601T140000Z
END:VEVENT
END:VCALENDAR
