BEGIN:VCALENDAR
VERSION:2.0
PRODID:https://github.com/derhansen/sf_event_mgt
METHOD:PUBLISH
BEGIN:VEVENT
UID:112-164@www.ove.at
CLASS: PUBLIC
SUMMARY:Mit OVE Fem on Tour: Exkursion zum Energiepark Bruck/Leitha
DESCRIPTION:
LOCATION:Energiepark Bruck/Leitha
DTSTAMP:20240813T091148Z
DTSTART:20240926T130000Z
DTEND:20240926T170000Z
END:VEVENT
END:VCALENDAR
