BEGIN:VCALENDAR
VERSION:2.0
PRODID:https://github.com/derhansen/sf_event_mgt
METHOD:PUBLISH
BEGIN:VEVENT
UID:6-164@www.ove.at
CLASS: PUBLIC
SUMMARY:MESS26 - Microelectronic Systems Symposium
DESCRIPTION:Die MESS26 findet am 25. und 26. Juni 2026 im Haus der Ingenieu
 re in Wien statt.\n\nDie Mikroelektronik ist eine bedeutende Schlüsseltechn
 ologie und bildet die Basis für viele innovative Produkte. Mikroelektronisc
 he Systeme haben heutzutage in nahezu alle Lebensbereiche Einzug gehalten u
 nd sind in der Automobilbranche, auf dem Sektor der Informations- und Kommu
 nikationstechnik, in medizintechnischen Geräten u.v.m. nicht mehr wegzudenk
 en. Und die Entwicklung geht weiter: Von zukünftigen Systemen werden maxima
 le Effizienz und Leistung sowie Multifunktionalität bei minimaler Größe erw
 artet.\n\nDas Microelectronic Systems Symposium (MESS) konzentriert sich au
 f die Schwerpunktthemen\n\nMikroelektronische SystemeMesstechnikSensorikEmb
 edded SystemsHochfrequenztechnikverwandte Gebiete der Elektrotechnik und In
 formationstechnik\n\nund bietet Beiträge aus universitärer sowie industriel
 ler Forschung und Entwicklung.\n\n\n\nDonnerstag, 25. Juni 2026\n\nab 12:30
 Registrierung13:00Eröffnung: Bernhard Jakoby (JKU Linz)13:10 - 14:00Michael
  Jerne  (NXP) 14:00 - 14:50Julien Magnien, Borislav Hinkov  (AT-C³ Austrian
  Chips Competence Center) - Advanced Materials, Photonics & Quantum: Österr
 eichs Beitrag zum europäischen Halbleiter Ökosystem14:50 - 15:40Pause / Pos
 tersession15:40 - 16:30Oliver Lang  (JKU Linz) - Laboratory for Steel Indus
 try Signal Processing and Machine Learning16:30 - 17:20Benedikt Schwarz  (T
 U Wien) - Integrated Photonics for Mid-Infrared Spectroscopy: from On-Chip 
 Sensors to Frequency Combs19:00Dinner im Restaurant Stöckl im Park\n\n\n\nF
 reitag, 26. Juni 2026\n\n\n\n09:00 - 09:50Thomas Buchegger  (Silicon Austri
 a Labs Linz) - SAL’s Aktivitäten im Bereich Halbleitertechnologien und drah
 tloser Systeme in geopolitisch turbulenten Zeiten09:50 - 10:40Michael Waltl
   (TU Wien) - Reliability Challenges for Robust Electronic Devices and Circ
 uits10:40 - 11:10Pause / Postersession11:10 - 12:00Ernst Csencsics  (TU Wie
 n) - Precision Measurements in Motion12:00 - 12:50Siegfried Krainer  (Infin
 eon Villach) - Resilient Airspace Security: Transforming Semiconductor Exce
 llence into Next-Generation Drone Defense Systems12:50Best Poster Awardansc
 hließendMittagsimbiss\n\n\n\nMESS fand erstmals 2014 in dem aktuellen Forma
 t statt und wird seither alle zwei Jahre abgehalten. Die offiziellen Konfer
 enzsprachen sind Englisch und Deutsch.\n\nEinreichungen bis 15. April 2026 
 an:Tagungssekretariat - Andrea SchelmbergerOVE Österreichischer Verband für
  ElektrotechnikEschenbachgasse 9, 1010 WienTelefon: + 43 1 587 63 73-522; E
 -Mail: mess@ove.at
LOCATION:HDI-Businessebene
DTSTAMP:20260408T102249Z
DTSTART:20260625T110000Z
DTEND:20260626T113000Z
END:VEVENT
END:VCALENDAR
