BEGIN:VCALENDAR
VERSION:2.0
PRODID:https://github.com/derhansen/sf_event_mgt
METHOD:PUBLISH
BEGIN:VEVENT
UID:61-164@www.ove.at
CLASS: PUBLIC
SUMMARY:Workshop Kleinwindkraft: Theorie und Praxis der PV-Alternative
DESCRIPTION:Photovoltaik-Anlagen (PVA) erleben in Österreich aktuell einen 
 Boom. Allerdings wird Strom nur untertags bei Sonnenschein erzeugt. Haushal
 tslastprofile weisen jedoch einen hohen Energiebedarf morgens und abends au
 f, wo keine Energie mittels PVA bereitgestellt werden kann. Eine Abhilfe st
 ellen Kleinwindenergieanlagen (KWEA) dar. Mit ihrer Hilfe kann auch an sonn
 enschwachen Tagen oder nachts Strom erzeugt werden. Bleibt die Anlage unter
 halb einer definierten Leistung, so darf sie auch von Privatpersonen betrie
 ben werden. Damit ist die KWEA eine ideale Ergänzung oder Alternative zur P
 VA.\n\nIn den letzten Jahren ist das Interesse an KWEA und der Wunsch nach 
 privater Energieautonomie in Österreich stark gestiegen. Interessensvertret
 ungen und Energieversorger*Innen verzeichnen jedoch nicht nur eine deutlich
  steigende Anzahl von Anfragen für Anlagen im ländlichen Raum, sondern auch
  für KWEA in dichter besiedelten Gebieten. Im Vergleich zu PVA ergeben sich
  jedoch zusätzliche Herausforderungen bei der Planung und dem Betrieb von K
 WEA.\n\nNach dem Vertiefungs-Workshop „Planer*innen“ werden Sie in der Lage
  sein, Standorte zu bewerten, passende Produkte auszuwählen und eine Genehm
 igung für eine Kleinwindkraftanlage durchzuführen.\n\nNach dem Vertiefungs-
 Workshop „Betreiber*innen“ werden Sie in der Lage sein, die wesentlichen Ke
 nndaten einer Kleinwindkraftanlage im Betrieb zu ermitteln und auszuwerten,
  sowie Anzeichen für Schäden zu erkennen.\n\nTheoretische Schwerpunkte:\n\n
 Grundlagen und Herausforderungen der KleinwindkraftZahlen zur Kleinwindkraf
 tDefinition und LeistungKomponenten, Typen und HerstellerWindmessung und Se
 nsorenVor- und NachteileVertiefung Planer*innenStandortbewertungGenehmigung
  (Ablauf & Hürden)WirtschaftlichkeitPraxisteil – Live-Daten KWEA ENERGYbase
 Vertiefung Betreiber*innenLeistungskennlinien und OptimierungSchallemission
 enWindmessungCondition-Monitoring und Schäden\n\nZielgruppe:\n\nEnergiemana
 ger:innenPersonen, die mit der Planung von Energieanlagen betraut sindFachk
 räfte, die Elektroinstallationen im Energiebereich durchführen
LOCATION:ENERGYbase
DTSTAMP:20260216T160528Z
DTSTART:20271231T080000Z
DTEND:20271231T160000Z
END:VEVENT
END:VCALENDAR
