BEGIN:VCALENDAR
VERSION:2.0
PRODID:https://github.com/derhansen/sf_event_mgt
METHOD:PUBLISH
BEGIN:VEVENT
UID:10-164@www.ove.at
CLASS: PUBLIC
SUMMARY:Grundlagen für die Installation von Photovoltaik-Anlagen
DESCRIPTION:Inhalt:\n\n    Projektieren    Errichten und Prüfen von PV-Anla
 gen und Energiespeichern    Betriebsarten (Netz- und Inselbetrieb)    Wechs
 elrichtersysteme    Netzüberwachung    Blitz- und Überspannungsschutz    An
 forderungen an den Brandschutz    Messtechnik und Prüfung    Anlagendokumen
 tation    Inbetriebnahme    Normative Richtlinien und Grundlagen\n\nSeminar
 ziel:\n\nPhotovoltaik-Anlagen (PV) spielen in einer klimaneutralen Zukunft 
 eine tragende Rolle. Im Gebäudesektor liegt großes Potenzial in der zusätzl
 ichen Energiegewinnung aus Sonnenlicht. Doch auf welche technischen und rec
 htlichen Rahmenbedingungen muss bei der Installation von PV-Anlagen Rücksic
 ht genommen werden? Was muss beachtet werden, damit jeder die Sonnenenergie
  für sich nutzen kann? Wie mache ich es richtig? Welche Voraussetzungen bra
 ucht es? Welche Anforderungen werden an die Dokumentation gestellt? Dieses 
 Seminar beantwortet alle diese Fragen.\n\nZielgruppe\n\nMitarbeiter:innen t
 echnischer Büros für ElektrotechnikPersonen, die mit Projektierung, Inbetri
 ebnahme und/oder Prüfung von PV-Anlagen betraut sindSachverständigeInteress
 ierte Personen mit technischen Vorkenntnissen\n\n\n\nOnline-Teilnehmer:inne
 n erhalten rechtzeitig vor der Veranstaltung einen Zugangslink per E-Mail.\
 n\n\n\nUnser Referent im Kurzinterview:\n\n\n\n
LOCATION:OVE Academy Turmzimmer
DTSTAMP:20260216T160204Z
DTSTART:20271231T080000Z
DTEND:20271231T150000Z
END:VEVENT
END:VCALENDAR
