BEGIN:VCALENDAR
VERSION:2.0
PRODID:https://github.com/derhansen/sf_event_mgt
METHOD:PUBLISH
BEGIN:VEVENT
UID:20-164@www.ove.at
CLASS: PUBLIC
SUMMARY:Elektrotechnische Normung
DESCRIPTION:Inhalt:\n\nDie strategische Bedeutung der NormungDas rechtliche
  UmfeldMitarbeit und InformationsaustauschRechte und Pflichten der Normungs
 mitarbeiterDas Who Is Who der NormungVom Entwurf zur Norm - Möglichkeiten d
 er EinflussnahmeDie elektronischen Werkzeuge in der NormungsarbeitWegweiser
  zum Informationsvorsprung\n\nSeminarziel:\n\nNach dem Workshop haben die T
 eilnehmer Kenntnisse über:\n\nStrategische Möglichkeiten in der NormungProb
 leme in der Normung und LösungswegeDie rechtliche Situation in der NormungI
 ndividuelle Möglichkeiten der Teilnahme in der NormungsarbeitVerantwortlich
 e Organisationen im Bereich NormungAnsprechpartner und Zugriffsmöglichkeite
 n auf alle relevanten InformationenArbeitsabläufe (Termine, Verantwortungen
 , Dokumentenlenkung, etc.)\n\nZielgruppe:\n\nKünftige und bereits aktive Mi
 tarbeiter in OVE-FachgremienFührungskräfte aus UnternehmenFachkräfte aus Fo
 rschung und EntwicklungVertreter von BehördenMitarbeiter von Interessenvert
 retungenMitarbeiter von Prüfstellen\n\nDas Seminar findet auch an diesem Al
 ternativtermin statt: 28.01.2027. Nähere Informationen sowie die Möglichkei
 t zur Anmeldung finden Sie hier: hier.\n\n\n\n
LOCATION:OVE Academy Galerie
DTSTAMP:20260316T093453Z
DTSTART:20261001T070000Z
DTEND:20261001T150000Z
END:VEVENT
END:VCALENDAR
