BEGIN:VCALENDAR
VERSION:2.0
PRODID:https://github.com/derhansen/sf_event_mgt
METHOD:PUBLISH
BEGIN:VEVENT
UID:51-164@www.ove.at
CLASS: PUBLIC
SUMMARY:(Cyber-)Security in der Automatisierungstechnik - Grundlagen
DESCRIPTION:Der Kurs behandelt den gesamten Lebenszyklus solcher Systeme vo
 n der Planung („Security by Design“) über die Inbetriebnahme und Wartung bi
 s zur Außerbetriebnahme, um mit einer strukturierten Vorgangsweise Security
 -Risiken schon von Beginn an zu vermeiden.\n\nThemenfelder, die im Kurs beh
 andelt werden:\n\nGefahren für Automatisierungstechnik und IT-Systeme, Secu
 rity-HerausforderungenGrundlegende Tipps zum sicheren Umgang mit IT und Aut
 omatisierungstechnikSecurity-Prinzipien und Planungsaspekte („Security by D
 esign”)Systematische Ermittlung und Bewertung von Bedrohungen und RisikenTy
 pische Fehler bzw. Security-Probleme und Tipps aus der Praxis\n\nSeminarzie
 l:\n\nOb in Industriebetrieben oder in Gebäuden – Automatisierungssysteme s
 ind immer häufiger Teil von modernen Anlagen. Ohne ausreichendes Wissen kön
 nen dabei Sicherheitslücken entstehen. Diese können den Betreibenden und da
 mit in weiterer Folge auch Unternehmen, die Anlagen(teile) bereitstellen od
 er installieren, Probleme verursachen – und im professionellen Umfeld mitun
 ter massive Schäden durch Datenverlust oder Haftungsfragen nach sich ziehen
 .\n\nIm Seminar werden daher die wesentlichen Grundlagen zur sicheren Nutzu
 ng, Konfiguration und Inbetriebnahme sowie dem sicheren Betrieb von Geräten
  im Bereich der Automatisierungstechnik auf Basis heutiger Systeme und Netz
 werke vermittelt. Der Fokus liegt auf derzeit gängigen Geräten und Produkte
 n wie SPS / PLC / DCS, SCADA-Systeme, Leitstände, Bussteuerungen und Visual
 isierungen sowie der dazu notwendigen Netzwerktechnik. Aufbauend darauf wer
 den im Folgeseminar „(Cyber-)Security in der Automatisierungstechnik – Prax
 is“ die Inhalte in der praktischen Anwendung dargestellt.\n\nZielgruppe:\n\
 nPersonen die mit Automatisierungstechnik, Produktentwicklung, Elektrotechn
 ik, Wartung, Mechatronik, Haustechnik, Gebäudeplanung und Projektleitung - 
 generell mit Planung und Ausführung in der Industrie- oder Gebäudeautomatio
 n betraut sind.\n\nVoraussetzungen:\n\nErfahrung im Umgang mit PC‘s und IT-
 Systemen, Erfahrung im Bereich Automatisierungstechnik bzw. Gebäudeautomati
 on.
LOCATION:OVE Academy Turmzimmer
DTSTAMP:20260216T160422Z
DTSTART:20271231T080000Z
DTEND:20271231T150000Z
END:VEVENT
END:VCALENDAR
