BEGIN:VCALENDAR
VERSION:2.0
PRODID:https://github.com/derhansen/sf_event_mgt
METHOD:PUBLISH
BEGIN:VEVENT
UID:53-164@www.ove.at
CLASS: PUBLIC
SUMMARY:Security Incident Handling Training für OT-Systeme
DESCRIPTION:In diesem Seminar bekommen Sie einen Überblick über den praktis
 chen Umgang mit Sicherheitsvorfällen in Automatisierungssystemen, speziell 
 in den Bereichen Energiewirtschaft und Industrie. Dabei werden die Grundlag
 en für die Erkennung von Vorfällen und die Prozesse zur Eindämmung und Behe
 bung von Sicherheitsvorfällen betrachtet. Eine wichtige Rolle spielen in di
 esem Zusammenhang das Security Operations Center (SOC) und die dort eingese
 tzten SIEM (Security Incident and Event Management) Lösungen.\n\nBeim Eintr
 eten eines Sicherheitsvorfalls, ist es wichtig, dass zuvor definierte Proze
 sse eingehalten werden. Teil dieses Trainings ist eine praktische Übung mit
  der AIT Cyber Range, um die Vorgehensweise bei einem konkreten Vorfall exe
 mplarisch zu trainieren.\n\nEin Cyber Range ist eine technische Infrastrukt
 ur (Server und Automatisierungstechnik), die für Schulungen und Übungen im 
 Cybersicherheitsbereich genutzt werden kann. Bedrohungsszenarien werden auf
  einer Range ausgeführt, um es Ihnen zu ermöglichen, Aufgaben in einer mögl
 ichst realistischen Umgebung zu bewältigen.\n\nIn diesem Seminar lernen Sie
 , wie man Sicherheitsvorfälle erkennt und wie man damit umgeht. Dabei werde
 n die folgenden Themenbereiche betrachtet:\n\nBedrohung für Automatisierung
 ssystemeSecurity Operations Center und Incident ResponseIntrusion Detection
  für AutomatisierungssystemeSIEM-Lösungen für AutomatisierungssystemeAIT Cy
 ber Range und SIEM-LösungenDigitale Forensik für Automatisierungssysteme\n\
 nIm praktischen Teil lernen Sie wie man SIEM-Lösung zur Überwachung von Aut
 omatisierungssystemen einrichtet und wie man beispielsweise als SOC-Mitarbe
 iter richtig auf Vorfälle reagiert.\n\nDas Seminar wird teils in deutscher,
  teils in englischer Sprache gehalten.\n\nSeminarziel:\n\nAuch Automatisier
 ungssysteme in Industrie oder Energiewirtschaft sind Ziel von Cyber-Angriff
 en. In diesem Seminar lernen Sie zunächst typische Bedrohungen kennen, dene
 n Automatisierungssysteme ausgesetzt sind.Zudem soll das Verständnis für di
 e Rolle eines Security Operations Center (SOC) bei der Behandlung von Siche
 rheitsvorfällen entwickelt werden. Sie erhalten dabei einen Einblick in ent
 sprechende Werkzeuge wie SIEM (Security Incident and Event Management) Lösu
 ngen.Abschließend wird im Rahmen einer praktischen Übung auf einer Cyber Ra
 nge die Vorgehensweise bei Sicherheitsvorfällen trainiert.\n\nZielgruppe:\n
 \nOrganisatorische Entscheidungsträger:innen in Bezug auf Cybersicherheit f
 ür Automatisierungssysteme in Energiewirtschaft oder IndustrieTechnisches P
 ersonal mit einem Grundverständnis von Cybersicherheit für IT-Systeme, das 
 die Herausforderungen bei der Absicherung von Automatisierungssystemen vers
 tehen lernen möchte,Betriebspersonal von Automatisierungssystemen mit Inter
 esse an Cybersecurity\n\nVoraussetzungen:\n\nErfahrung im Umgang mit PC‘s u
 nd IT-Systemen, Erfahrung im Bereich Automatisierungstechnik sowie ein grun
 dlegendes Verständnis von Cybersecurity\n\n\n\nUnser Referent im Kurzinterv
 iew:
LOCATION:AIT Austrian Institute of Technology GmbH
DTSTAMP:20260216T160456Z
DTSTART:20271231T080000Z
DTEND:20271231T110000Z
END:VEVENT
END:VCALENDAR
